BEGIN:VCALENDAR
VERSION:2.0
PRODID:-//Eastminster Presbyterian Church - ECPv6.15.13//NONSGML v1.0//EN
CALSCALE:GREGORIAN
METHOD:PUBLISH
X-ORIGINAL-URL:https://eastminsterpca.org
X-WR-CALDESC:Events for Eastminster Presbyterian Church
REFRESH-INTERVAL;VALUE=DURATION:PT1H
X-Robots-Tag:noindex
X-PUBLISHED-TTL:PT1H
BEGIN:VTIMEZONE
TZID:America/New_York
BEGIN:DAYLIGHT
TZOFFSETFROM:-0500
TZOFFSETTO:-0400
TZNAME:EDT
DTSTART:20220313T070000
END:DAYLIGHT
BEGIN:STANDARD
TZOFFSETFROM:-0400
TZOFFSETTO:-0500
TZNAME:EST
DTSTART:20221106T060000
END:STANDARD
BEGIN:DAYLIGHT
TZOFFSETFROM:-0500
TZOFFSETTO:-0400
TZNAME:EDT
DTSTART:20230312T070000
END:DAYLIGHT
BEGIN:STANDARD
TZOFFSETFROM:-0400
TZOFFSETTO:-0500
TZNAME:EST
DTSTART:20231105T060000
END:STANDARD
BEGIN:DAYLIGHT
TZOFFSETFROM:-0500
TZOFFSETTO:-0400
TZNAME:EDT
DTSTART:20240310T070000
END:DAYLIGHT
BEGIN:STANDARD
TZOFFSETFROM:-0400
TZOFFSETTO:-0500
TZNAME:EST
DTSTART:20241103T060000
END:STANDARD
BEGIN:DAYLIGHT
TZOFFSETFROM:-0500
TZOFFSETTO:-0400
TZNAME:EDT
DTSTART:20250309T070000
END:DAYLIGHT
BEGIN:STANDARD
TZOFFSETFROM:-0400
TZOFFSETTO:-0500
TZNAME:EST
DTSTART:20251102T060000
END:STANDARD
BEGIN:DAYLIGHT
TZOFFSETFROM:-0500
TZOFFSETTO:-0400
TZNAME:EDT
DTSTART:20260308T070000
END:DAYLIGHT
BEGIN:STANDARD
TZOFFSETFROM:-0400
TZOFFSETTO:-0500
TZNAME:EST
DTSTART:20261101T060000
END:STANDARD
END:VTIMEZONE
BEGIN:VEVENT
DTSTART;TZID=America/New_York:20251018T090000
DTEND;TZID=America/New_York:20251018T150000
DTSTAMP:20260423T115934
CREATED:20250811T154308Z
LAST-MODIFIED:20250811T154308Z
UID:1234-1760778000-1760799600@eastminsterpca.org
SUMMARY:Fall Craft Fair Saturday October 18\, 2025
DESCRIPTION:All are invited to join us for our Fall Craft Fair\, Saturday October 18\, 2025 from 9am to 3pm. Vendors are invited to complete an application and email it to office@eastminsterpca.org. \nThere are a variety of vendors participating with food\, beverages\, and of course your favorite crafted goods. Please comeout and join us! \n  \nCraft Fair Application
URL:https://eastminsterpca.org/event/fall-craft-fair-saturday-october-18-2025/
LOCATION:Eastminster Presbyterian Church\, 3229 MacDonald Road\, Virginia Beach\, VA\, 23464\, United States
END:VEVENT
BEGIN:VEVENT
DTSTART;TZID=America/New_York:20250803T120000
DTEND;TZID=America/New_York:20250803T140000
DTSTAMP:20260423T115934
CREATED:20250719T221830Z
LAST-MODIFIED:20250719T222731Z
UID:1225-1754222400-1754229600@eastminsterpca.org
SUMMARY:Corn & Watermelon Feast
DESCRIPTION:Join us at Eastminster PCA on Sunday\, August 3rd for a day of worship\, fellowship\, and summer treats!\n\n\n\n Coffee Fellowship – 9:15 AM\n Sunday School – 9:45 AM\n Worship Service – 11:00 AM\n\n\n\nAfter worship\, stay and enjoy our Corn & Watermelon Feast – a perfect way to celebrate summer together. Bring your family and friends – all are welcome!\n\n\n\nCorn and Watermelon Feast\n\n\n#EastminsterPCA #CornAndWatermelonFeast #SummerFellowship #SundayWorship
URL:https://eastminsterpca.org/event/corn-watermelon-feast/
LOCATION:Eastminster Presbyterian Church\, 3229 MacDonald Road\, Virginia Beach\, VA\, 23464\, United States
END:VEVENT
BEGIN:VEVENT
DTSTART;TZID=America/New_York:20250330T123000
DTEND;TZID=America/New_York:20250330T143000
DTSTAMP:20260423T115934
CREATED:20250305T231653Z
LAST-MODIFIED:20250305T231653Z
UID:1214-1743337800-1743345000@eastminsterpca.org
SUMMARY:Fellowship Lunch
DESCRIPTION:Fellowship Potluck after Sunday Morning Worship
URL:https://eastminsterpca.org/event/fellowship-lunch/
LOCATION:Eastminster Presbyterian Church\, 3229 MacDonald Road\, Virginia Beach\, VA\, 23464\, United States
CATEGORIES:Fellowship
END:VEVENT
BEGIN:VEVENT
DTSTART;TZID=America/New_York:20250310T160000
DTEND;TZID=America/New_York:20250310T180000
DTSTAMP:20260423T115934
CREATED:20250305T231901Z
LAST-MODIFIED:20250305T231901Z
UID:1216-1741622400-1741629600@eastminsterpca.org
SUMMARY:Joint Session & Diaconate Meeting
DESCRIPTION:Joint officer’s meeting. Anyone with business for the Session or Diaconate should reach out to an officer or plan to attend.
URL:https://eastminsterpca.org/event/joint-session-diaconate-meeting/
LOCATION:Eastminster Presbyterian Church\, 3229 MacDonald Road\, Virginia Beach\, VA\, 23464\, United States
END:VEVENT
BEGIN:VEVENT
DTSTART;TZID=America/New_York:20250309T110000
DTEND;TZID=America/New_York:20250309T121500
DTSTAMP:20260423T115934
CREATED:20250305T232101Z
LAST-MODIFIED:20250305T232101Z
UID:1218-1741518000-1741522500@eastminsterpca.org
SUMMARY:Communion
DESCRIPTION:Communion Sunday
URL:https://eastminsterpca.org/event/communion/
LOCATION:Eastminster Presbyterian Church\, 3229 MacDonald Road\, Virginia Beach\, VA\, 23464\, United States
CATEGORIES:Communion,Worship Service
END:VEVENT
BEGIN:VEVENT
DTSTART;TZID=America/New_York:20231203T120000
DTEND;TZID=America/New_York:20231203T123000
DTSTAMP:20260423T115934
CREATED:20231123T005823Z
LAST-MODIFIED:20231123T005839Z
UID:1181-1701604800-1701606600@eastminsterpca.org
SUMMARY:Congregational Meeting
DESCRIPTION:The Session of Eastminster has called for a congregational meeting after worship services on Sunday December 3rd. The purpose of the meeting is to elect a pulpit search committee. All members are invited to come and participate in this important meeting regarding the future of Eastminster.
URL:https://eastminsterpca.org/event/congregational-meeting/
LOCATION:VA
CATEGORIES:Congregational Meeting
ATTACH;FMTTYPE=image/jpeg:https://eastminsterpca.org/wp-content/uploads/2023/11/43A2043B-CDCF-4BC0-939B-44BEFA24521D_1_105_c.jpeg
END:VEVENT
BEGIN:VEVENT
DTSTART;TZID=America/New_York:20231203T094500
DTEND;TZID=America/New_York:20231203T103000
DTSTAMP:20260423T115934
CREATED:20231123T010853Z
LAST-MODIFIED:20231123T010853Z
UID:1187-1701596700-1701599400@eastminsterpca.org
SUMMARY:New Sunday School Class - Book of Luke
DESCRIPTION:The adult Sunday School starts a new study on Sunday December 3rd. We are going through the book of Luke. This is a great start to our advent season and is a wonderful look at Luke’s account of the life of Jesus. \nSunday School is every Sunday morning at 9:45 am. Lesson materials are provided.
URL:https://eastminsterpca.org/event/new-sunday-school-class-book-of-luke/
LOCATION:Eastminster Presbyterian Church\, 3229 MacDonald Road\, Virginia Beach\, VA\, 23464\, United States
CATEGORIES:Sunday School
ATTACH;FMTTYPE=image/jpeg:https://eastminsterpca.org/wp-content/uploads/2023/11/download-1.jpeg
END:VEVENT
BEGIN:VEVENT
DTSTART;TZID=America/New_York:20231130T140000
DTEND;TZID=America/New_York:20231130T153000
DTSTAMP:20260423T115934
CREATED:20231122T235842Z
LAST-MODIFIED:20231122T235842Z
UID:1175-1701352800-1701358200@eastminsterpca.org
SUMMARY:IRAL Birthday Party
DESCRIPTION:You donated birthday gifts\, now come out and join us as we walk next door and deliver those gifts. You can participate in the party and see the impact your generosity has on those in need. It’s a wonderful mercy opportunity and a tremendous blessing for everyone. Come out on Thursday November 30th at 2pm and join in.
URL:https://eastminsterpca.org/event/iral-birthday-party/
LOCATION:VA
CATEGORIES:Service Event
ATTACH;FMTTYPE=image/jpeg:https://eastminsterpca.org/wp-content/uploads/2023/08/birthdau-gifts.jpg
END:VEVENT
BEGIN:VEVENT
DTSTART;TZID=America/New_York:20231127T180000
DTEND;TZID=America/New_York:20231127T203000
DTSTAMP:20260423T115934
CREATED:20231122T235400Z
LAST-MODIFIED:20231122T235400Z
UID:1171-1701108000-1701117000@eastminsterpca.org
SUMMARY:Greening of the Church - Monday Nov 27th at 6pm
DESCRIPTION:The church is preparing for the Christmas season. Come out and join us as we put up the decorations\, get into the Christmas spirit\, and enjoy the fellowship of greening the church! 6pm on Monday November 27th.
URL:https://eastminsterpca.org/event/greening-of-the-church-monday-nov-27th-at-6pm/
LOCATION:Eastminster Presbyterian Church\, 3229 MacDonald Road\, Virginia Beach\, VA\, 23464\, United States
CATEGORIES:Advent,Fellowship,Service Event
ATTACH;FMTTYPE=image/png:https://eastminsterpca.org/wp-content/uploads/2023/11/advent-candle.png
END:VEVENT
BEGIN:VEVENT
DTSTART;TZID=America/New_York:20231126T110000
DTEND;TZID=America/New_York:20231126T123000
DTSTAMP:20260423T115934
CREATED:20231123T000441Z
LAST-MODIFIED:20231123T000441Z
UID:1177-1700996400-1701001800@eastminsterpca.org
SUMMARY:Worship with guest Rev Gary Roest
DESCRIPTION:Worship service begins at 11am. Come hear the Reverend Gary Roest bring a message from Matthew\, “An Invitation to Accept the Yoke of Jesus.” \nYou won’t be disappointed and are sure to be blessed with a wonderful message from Gary.
URL:https://eastminsterpca.org/event/worship-with-guest-rev-gary-roest/
LOCATION:VA
CATEGORIES:Worship Service
ATTACH;FMTTYPE=image/jpeg:https://eastminsterpca.org/wp-content/uploads/2023/09/376278460_702290598590965_7825634918482137228_n.jpg
END:VEVENT
BEGIN:VEVENT
DTSTART;TZID=America/New_York:20231126T091500
DTEND;TZID=America/New_York:20231126T094500
DTSTAMP:20260423T115934
CREATED:20231122T234408Z
LAST-MODIFIED:20231122T234408Z
UID:1168-1700990100-1700991900@eastminsterpca.org
SUMMARY:Sunday School Coffee Fellowship
DESCRIPTION:Join us before Sunday School. Sunday mornings at 9:15 am we enjoy coffee and light refreshments in a time of fellowship. It’s sure to be a good time!
URL:https://eastminsterpca.org/event/sunday-school-coffee-fellowship/
LOCATION:Eastminster Presbyterian Church\, 3229 MacDonald Road\, Virginia Beach\, VA\, 23464\, United States
CATEGORIES:Fellowship,Sunday School
ATTACH;FMTTYPE=image/png:https://eastminsterpca.org/wp-content/uploads/2023/11/coffee-fellowship.png
END:VEVENT
BEGIN:VEVENT
DTSTART;TZID=America/New_York:20231029T123000
DTEND;TZID=America/New_York:20231029T140000
DTSTAMP:20260423T115934
CREATED:20230929T031806Z
LAST-MODIFIED:20230929T031806Z
UID:1153-1698582600-1698588000@eastminsterpca.org
SUMMARY:October Fellowship Dinner
DESCRIPTION:Join us after worship services on Sunday October 29\, 2023\, as we join together for a potluck meal. The theme for the potluck is “Harvest Fare” so bring your favorite dish that you associate with fall and our traditional fall holidays. \nIt is sure to be a good time with great food!
URL:https://eastminsterpca.org/event/october-fellowship-dinner/
LOCATION:Eastminster Presbyterian Church\, 3229 MacDonald Road\, Virginia Beach\, VA\, 23464\, United States
CATEGORIES:Fellowship
ATTACH;FMTTYPE=image/jpeg:https://eastminsterpca.org/wp-content/uploads/2018/01/potluck.jpg
END:VEVENT
BEGIN:VEVENT
DTSTART;TZID=America/New_York:20231029T094500
DTEND;TZID=America/New_York:20231029T120000
DTSTAMP:20260423T115934
CREATED:20230929T030744Z
LAST-MODIFIED:20230929T030744Z
UID:1151-1698572700-1698580800@eastminsterpca.org
SUMMARY:Sunday Worship Services October 29\, 2023
DESCRIPTION:Join us for Sunday morning worship services at 11am.  Rev Fred Showers is welcomed back into the pulpit as he brings the message. \nSunday School on October 1st at 9:45am in room 104. The current lesson is on prayer. Join us as we learn to pray big! \nNew communicant’s class meets in the pastor’s office.
URL:https://eastminsterpca.org/event/sunday-worship-services-october-29-2023/
LOCATION:Eastminster Presbyterian Church\, 3229 MacDonald Road\, Virginia Beach\, VA\, 23464\, United States
CATEGORIES:Sunday School,Worship Service
ATTACH;FMTTYPE=image/jpeg:https://eastminsterpca.org/wp-content/uploads/2023/09/376278460_702290598590965_7825634918482137228_n.jpg
END:VEVENT
BEGIN:VEVENT
DTSTART;TZID=America/New_York:20231026T100000
DTEND;TZID=America/New_York:20231026T120000
DTSTAMP:20260423T115934
CREATED:20230929T023623Z
LAST-MODIFIED:20230929T023623Z
UID:1131-1698314400-1698321600@eastminsterpca.org
SUMMARY:Indian River Assisted Living - October Birthdays Event
DESCRIPTION:Birthday gifts for the Indian River Assisted Living members with birthdays in October will be distributed in conjunction with a birthday celebration. Please sign up to donate a gift or help with the distribution. The signup list is in the office foyer. \nThis is a tremendous blessing for all involved!
URL:https://eastminsterpca.org/event/indian-river-assisted-living-october-birthdays-event/
LOCATION:Eastminster Presbyterian Church\, 3229 MacDonald Road\, Virginia Beach\, VA\, 23464\, United States
CATEGORIES:Birthday,Service Event
ATTACH;FMTTYPE=image/jpeg:https://eastminsterpca.org/wp-content/uploads/2023/08/birthdau-gifts.jpg
END:VEVENT
BEGIN:VEVENT
DTSTART;TZID=America/New_York:20231025T180000
DTEND;TZID=America/New_York:20231025T190000
DTSTAMP:20260423T115934
CREATED:20230929T025701Z
LAST-MODIFIED:20230929T025701Z
UID:1144-1698256800-1698260400@eastminsterpca.org
SUMMARY:Wednesday Prayer Meeting
DESCRIPTION:Prayer warriors\, prayer newbies\, those needing prayer…all can gather for a time dedicated to prayer. Lifting up God’s people from neighbors\, church members\, missionaries\, and the concerns of the hurting this meeting is all about praying for God’s people and His work. \nCome out and join us!
URL:https://eastminsterpca.org/event/wednesday-prayer-meeting-4/
LOCATION:Eastminster Presbyterian Church\, 3229 MacDonald Road\, Virginia Beach\, VA\, 23464\, United States
CATEGORIES:Prayer
ATTACH;FMTTYPE=image/jpeg:https://eastminsterpca.org/wp-content/uploads/2017/11/cropped-church-people-praying1.jpg
END:VEVENT
BEGIN:VEVENT
DTSTART;TZID=America/New_York:20231022T094500
DTEND;TZID=America/New_York:20231022T120000
DTSTAMP:20260423T115934
CREATED:20230929T030519Z
LAST-MODIFIED:20230929T030519Z
UID:1149-1697967900-1697976000@eastminsterpca.org
SUMMARY:Sunday Worship Services October 22\, 2023
DESCRIPTION:Join us for Sunday morning worship services at 11am.  Rev David Zavadil is welcomed back into the pulpit for a visit as he brings the message. \nSunday School on October 1st at 9:45am in room 104. The current lesson is on prayer. Join us as we learn to pray big! \nNew communicant’s class meets in the pastor’s office.
URL:https://eastminsterpca.org/event/sunday-worship-services-october-22-2023/
LOCATION:Eastminster Presbyterian Church\, 3229 MacDonald Road\, Virginia Beach\, VA\, 23464\, United States
CATEGORIES:Sunday School,Worship Service
ATTACH;FMTTYPE=image/jpeg:https://eastminsterpca.org/wp-content/uploads/2023/09/376278460_702290598590965_7825634918482137228_n.jpg
END:VEVENT
BEGIN:VEVENT
DTSTART;TZID=America/New_York:20231018T180000
DTEND;TZID=America/New_York:20231018T190000
DTSTAMP:20260423T115934
CREATED:20230929T025526Z
LAST-MODIFIED:20230929T025526Z
UID:1142-1697652000-1697655600@eastminsterpca.org
SUMMARY:Wednesday Prayer Meeting
DESCRIPTION:Prayer warriors\, prayer newbies\, those needing prayer…all can gather for a time dedicated to prayer. Lifting up God’s people from neighbors\, church members\, missionaries\, and the concerns of the hurting this meeting is all about praying for God’s people and His work. \nCome out and join us!
URL:https://eastminsterpca.org/event/wednesday-prayer-meeting-3/
LOCATION:Eastminster Presbyterian Church\, 3229 MacDonald Road\, Virginia Beach\, VA\, 23464\, United States
CATEGORIES:Prayer
ATTACH;FMTTYPE=image/jpeg:https://eastminsterpca.org/wp-content/uploads/2017/11/church-people-praying1.jpg
END:VEVENT
BEGIN:VEVENT
DTSTART;TZID=America/New_York:20231015T094500
DTEND;TZID=America/New_York:20231015T120000
DTSTAMP:20260423T115934
CREATED:20230929T030200Z
LAST-MODIFIED:20230929T030200Z
UID:1146-1697363100-1697371200@eastminsterpca.org
SUMMARY:Sunday Worship Services October 15\, 2023
DESCRIPTION:Join us for Sunday morning worship services at 11am.  Rev Gary Roest brings the message. \nSunday School on October 1st at 9:45am in room 104. The current lesson is on prayer. Join us as we learn to pray big! \nNew communicant’s class meets in the pastor’s office.
URL:https://eastminsterpca.org/event/sunday-worship-services-october-15-2023/
LOCATION:Eastminster Presbyterian Church\, 3229 MacDonald Road\, Virginia Beach\, VA\, 23464\, United States
CATEGORIES:Sunday School,Worship Service
ATTACH;FMTTYPE=image/jpeg:https://eastminsterpca.org/wp-content/uploads/2023/09/376278460_702290598590965_7825634918482137228_n.jpg
END:VEVENT
BEGIN:VEVENT
DTSTART;TZID=America/New_York:20231011T180000
DTEND;TZID=America/New_York:20231011T190000
DTSTAMP:20260423T115934
CREATED:20230929T025349Z
LAST-MODIFIED:20230929T025349Z
UID:1140-1697047200-1697050800@eastminsterpca.org
SUMMARY:Wednesday Prayer Meeting
DESCRIPTION:Prayer warriors\, prayer newbies\, those needing prayer…all can gather for a time dedicated to prayer. Lifting up God’s people from neighbors\, church members\, missionaries\, and the concerns of the hurting this meeting is all about praying for God’s people and His work. \nCome out and join us!
URL:https://eastminsterpca.org/event/wednesday-prayer-meeting-2/
LOCATION:Eastminster Presbyterian Church\, 3229 MacDonald Road\, Virginia Beach\, VA\, 23464\, United States
CATEGORIES:Prayer
ATTACH;FMTTYPE=image/jpeg:https://eastminsterpca.org/wp-content/uploads/2017/11/church-people-praying1.jpg
END:VEVENT
BEGIN:VEVENT
DTSTART;TZID=America/New_York:20231008T094500
DTEND;TZID=America/New_York:20231008T120000
DTSTAMP:20260423T115934
CREATED:20230929T024354Z
LAST-MODIFIED:20230929T024354Z
UID:1134-1696758300-1696766400@eastminsterpca.org
SUMMARY:Worship Service & Communion - Sunday Oct 8\, 2023
DESCRIPTION:Join us for Sunday morning worship at 11am as Rev Ruffin Alphin brings the message. The Sacrament of Communion will be observed. \nSunday School meets in room 104 at 9:45am and continues a study on prayer. All are welcome to join!
URL:https://eastminsterpca.org/event/worship-service-communion-sunday-oct-8-2023/
LOCATION:Eastminster Presbyterian Church\, 3229 MacDonald Road\, Virginia Beach\, VA\, 23464\, United States
CATEGORIES:Communion,Sunday School,Worship Service
ATTACH;FMTTYPE=image/jpeg:https://eastminsterpca.org/wp-content/uploads/2016/04/TheLordsSupper.jpg
END:VEVENT
BEGIN:VEVENT
DTSTART;TZID=America/New_York:20231007T100000
DTEND;TZID=America/New_York:20231007T140000
DTSTAMP:20260423T115934
CREATED:20230929T021208Z
LAST-MODIFIED:20230929T021208Z
UID:1121-1696672800-1696687200@eastminsterpca.org
SUMMARY:Church Workday Saturday October 7\, 2023
DESCRIPTION:Saturday October 7\, 2023 the church has a workday planned starting at 10am. Come out and help us clean the yard and the inside of the church in preparation for the new fall activities that are kicking off! \nWe plan to pick up branches\, tackle some hedges\, clean the downstairs rooms\, throw out some items laying around\, and refresh some classrooms. Let’s make the church sparkle for the fall…All assistance is welcome so come out and join us! \nContact the office or one of the church officers for more information.
URL:https://eastminsterpca.org/event/church-workday-saturday-october-7-2023/
LOCATION:Eastminster Presbyterian Church\, 3229 MacDonald Road\, Virginia Beach\, VA\, 23464\, United States
CATEGORIES:Workday
ATTACH;FMTTYPE=image/jpeg:https://eastminsterpca.org/wp-content/uploads/2023/09/jumpstory-download20230929-012010-scaled.jpg
END:VEVENT
BEGIN:VEVENT
DTSTART;TZID=America/New_York:20231004T180000
DTEND;TZID=America/New_York:20231004T190000
DTSTAMP:20260423T115934
CREATED:20230929T025202Z
LAST-MODIFIED:20230929T025202Z
UID:1137-1696442400-1696446000@eastminsterpca.org
SUMMARY:Wednesday Prayer Meeting
DESCRIPTION:Prayer warriors\, prayer newbies\, those needing prayer…all can gather for a time dedicated to prayer. Lifting up God’s people from neighbors\, church members\, missionaries\, and the concerns of the hurting this meeting is all about praying for God’s people and His work. \nCome out and join us!
URL:https://eastminsterpca.org/event/wednesday-prayer-meeting/
LOCATION:Eastminster Presbyterian Church\, 3229 MacDonald Road\, Virginia Beach\, VA\, 23464\, United States
CATEGORIES:Prayer
ATTACH;FMTTYPE=image/jpeg:https://eastminsterpca.org/wp-content/uploads/2017/11/cropped-church-people-praying1.jpg
END:VEVENT
BEGIN:VEVENT
DTSTART;TZID=America/New_York:20231001T094500
DTEND;TZID=America/New_York:20231001T120000
DTSTAMP:20260423T115934
CREATED:20230929T021903Z
LAST-MODIFIED:20230929T021903Z
UID:1128-1696153500-1696161600@eastminsterpca.org
SUMMARY:Worship Service & Sunday School Sunday Oct 1\, 2023
DESCRIPTION:Join us for Sunday morning worship services at 11am.  Rev Ron Rice brings a message from Ephesians. \nWe are resuming Sunday School on October 1st at 9:45am in room 104. The current lesson is on prayer. Join us as we learn to pray big! \nWe are also starting a new communicant’s class. The class meets in the pastor’s office.
URL:https://eastminsterpca.org/event/worship-service-sunday-school-sunday-oct-1-2023/
LOCATION:Eastminster Presbyterian Church\, 3229 MacDonald Road\, Virginia Beach\, VA\, 23464\, United States
CATEGORIES:Sunday School,Worship Service
ATTACH;FMTTYPE=image/jpeg:https://eastminsterpca.org/wp-content/uploads/2023/09/jumpstory-download20230922-173031-scaled.jpg
END:VEVENT
END:VCALENDAR