BEGIN:VCALENDAR
VERSION:2.0
PRODID:-//Eastminster Presbyterian Church - ECPv6.15.13//NONSGML v1.0//EN
CALSCALE:GREGORIAN
METHOD:PUBLISH
X-WR-CALNAME:Eastminster Presbyterian Church
X-ORIGINAL-URL:https://eastminsterpca.org
X-WR-CALDESC:Events for Eastminster Presbyterian Church
REFRESH-INTERVAL;VALUE=DURATION:PT1H
X-Robots-Tag:noindex
X-PUBLISHED-TTL:PT1H
BEGIN:VTIMEZONE
TZID:America/New_York
BEGIN:DAYLIGHT
TZOFFSETFROM:-0500
TZOFFSETTO:-0400
TZNAME:EDT
DTSTART:20220313T070000
END:DAYLIGHT
BEGIN:STANDARD
TZOFFSETFROM:-0400
TZOFFSETTO:-0500
TZNAME:EST
DTSTART:20221106T060000
END:STANDARD
BEGIN:DAYLIGHT
TZOFFSETFROM:-0500
TZOFFSETTO:-0400
TZNAME:EDT
DTSTART:20230312T070000
END:DAYLIGHT
BEGIN:STANDARD
TZOFFSETFROM:-0400
TZOFFSETTO:-0500
TZNAME:EST
DTSTART:20231105T060000
END:STANDARD
BEGIN:DAYLIGHT
TZOFFSETFROM:-0500
TZOFFSETTO:-0400
TZNAME:EDT
DTSTART:20240310T070000
END:DAYLIGHT
BEGIN:STANDARD
TZOFFSETFROM:-0400
TZOFFSETTO:-0500
TZNAME:EST
DTSTART:20241103T060000
END:STANDARD
END:VTIMEZONE
BEGIN:VEVENT
DTSTART;TZID=America/New_York:20231007T100000
DTEND;TZID=America/New_York:20231007T140000
DTSTAMP:20260423T181436
CREATED:20230929T021208Z
LAST-MODIFIED:20230929T021208Z
UID:1121-1696672800-1696687200@eastminsterpca.org
SUMMARY:Church Workday Saturday October 7\, 2023
DESCRIPTION:Saturday October 7\, 2023 the church has a workday planned starting at 10am. Come out and help us clean the yard and the inside of the church in preparation for the new fall activities that are kicking off! \nWe plan to pick up branches\, tackle some hedges\, clean the downstairs rooms\, throw out some items laying around\, and refresh some classrooms. Let’s make the church sparkle for the fall…All assistance is welcome so come out and join us! \nContact the office or one of the church officers for more information.
URL:https://eastminsterpca.org/event/church-workday-saturday-october-7-2023/
LOCATION:Eastminster Presbyterian Church\, 3229 MacDonald Road\, Virginia Beach\, VA\, 23464\, United States
CATEGORIES:Workday
ATTACH;FMTTYPE=image/jpeg:https://eastminsterpca.org/wp-content/uploads/2023/09/jumpstory-download20230929-012010-scaled.jpg
END:VEVENT
END:VCALENDAR