BEGIN:VCALENDAR
VERSION:2.0
PRODID:-//Eastminster Presbyterian Church - ECPv6.15.13//NONSGML v1.0//EN
CALSCALE:GREGORIAN
METHOD:PUBLISH
X-WR-CALNAME:Eastminster Presbyterian Church
X-ORIGINAL-URL:https://eastminsterpca.org
X-WR-CALDESC:Events for Eastminster Presbyterian Church
REFRESH-INTERVAL;VALUE=DURATION:PT1H
X-Robots-Tag:noindex
X-PUBLISHED-TTL:PT1H
BEGIN:VTIMEZONE
TZID:America/New_York
BEGIN:DAYLIGHT
TZOFFSETFROM:-0500
TZOFFSETTO:-0400
TZNAME:EDT
DTSTART:20220313T070000
END:DAYLIGHT
BEGIN:STANDARD
TZOFFSETFROM:-0400
TZOFFSETTO:-0500
TZNAME:EST
DTSTART:20221106T060000
END:STANDARD
BEGIN:DAYLIGHT
TZOFFSETFROM:-0500
TZOFFSETTO:-0400
TZNAME:EDT
DTSTART:20230312T070000
END:DAYLIGHT
BEGIN:STANDARD
TZOFFSETFROM:-0400
TZOFFSETTO:-0500
TZNAME:EST
DTSTART:20231105T060000
END:STANDARD
BEGIN:DAYLIGHT
TZOFFSETFROM:-0500
TZOFFSETTO:-0400
TZNAME:EDT
DTSTART:20240310T070000
END:DAYLIGHT
BEGIN:STANDARD
TZOFFSETFROM:-0400
TZOFFSETTO:-0500
TZNAME:EST
DTSTART:20241103T060000
END:STANDARD
END:VTIMEZONE
BEGIN:VEVENT
DTSTART;TZID=America/New_York:20231203T094500
DTEND;TZID=America/New_York:20231203T103000
DTSTAMP:20260423T164507
CREATED:20231123T010853Z
LAST-MODIFIED:20231123T010853Z
UID:1187-1701596700-1701599400@eastminsterpca.org
SUMMARY:New Sunday School Class - Book of Luke
DESCRIPTION:The adult Sunday School starts a new study on Sunday December 3rd. We are going through the book of Luke. This is a great start to our advent season and is a wonderful look at Luke’s account of the life of Jesus. \nSunday School is every Sunday morning at 9:45 am. Lesson materials are provided.
URL:https://eastminsterpca.org/event/new-sunday-school-class-book-of-luke/
LOCATION:Eastminster Presbyterian Church\, 3229 MacDonald Road\, Virginia Beach\, VA\, 23464\, United States
CATEGORIES:Sunday School
ATTACH;FMTTYPE=image/jpeg:https://eastminsterpca.org/wp-content/uploads/2023/11/download-1.jpeg
END:VEVENT
BEGIN:VEVENT
DTSTART;TZID=America/New_York:20231126T091500
DTEND;TZID=America/New_York:20231126T094500
DTSTAMP:20260423T164507
CREATED:20231122T234408Z
LAST-MODIFIED:20231122T234408Z
UID:1168-1700990100-1700991900@eastminsterpca.org
SUMMARY:Sunday School Coffee Fellowship
DESCRIPTION:Join us before Sunday School. Sunday mornings at 9:15 am we enjoy coffee and light refreshments in a time of fellowship. It’s sure to be a good time!
URL:https://eastminsterpca.org/event/sunday-school-coffee-fellowship/
LOCATION:Eastminster Presbyterian Church\, 3229 MacDonald Road\, Virginia Beach\, VA\, 23464\, United States
CATEGORIES:Fellowship,Sunday School
ATTACH;FMTTYPE=image/png:https://eastminsterpca.org/wp-content/uploads/2023/11/coffee-fellowship.png
END:VEVENT
BEGIN:VEVENT
DTSTART;TZID=America/New_York:20231029T094500
DTEND;TZID=America/New_York:20231029T120000
DTSTAMP:20260423T164507
CREATED:20230929T030744Z
LAST-MODIFIED:20230929T030744Z
UID:1151-1698572700-1698580800@eastminsterpca.org
SUMMARY:Sunday Worship Services October 29\, 2023
DESCRIPTION:Join us for Sunday morning worship services at 11am.  Rev Fred Showers is welcomed back into the pulpit as he brings the message. \nSunday School on October 1st at 9:45am in room 104. The current lesson is on prayer. Join us as we learn to pray big! \nNew communicant’s class meets in the pastor’s office.
URL:https://eastminsterpca.org/event/sunday-worship-services-october-29-2023/
LOCATION:Eastminster Presbyterian Church\, 3229 MacDonald Road\, Virginia Beach\, VA\, 23464\, United States
CATEGORIES:Sunday School,Worship Service
ATTACH;FMTTYPE=image/jpeg:https://eastminsterpca.org/wp-content/uploads/2023/09/376278460_702290598590965_7825634918482137228_n.jpg
END:VEVENT
BEGIN:VEVENT
DTSTART;TZID=America/New_York:20231022T094500
DTEND;TZID=America/New_York:20231022T120000
DTSTAMP:20260423T164507
CREATED:20230929T030519Z
LAST-MODIFIED:20230929T030519Z
UID:1149-1697967900-1697976000@eastminsterpca.org
SUMMARY:Sunday Worship Services October 22\, 2023
DESCRIPTION:Join us for Sunday morning worship services at 11am.  Rev David Zavadil is welcomed back into the pulpit for a visit as he brings the message. \nSunday School on October 1st at 9:45am in room 104. The current lesson is on prayer. Join us as we learn to pray big! \nNew communicant’s class meets in the pastor’s office.
URL:https://eastminsterpca.org/event/sunday-worship-services-october-22-2023/
LOCATION:Eastminster Presbyterian Church\, 3229 MacDonald Road\, Virginia Beach\, VA\, 23464\, United States
CATEGORIES:Sunday School,Worship Service
ATTACH;FMTTYPE=image/jpeg:https://eastminsterpca.org/wp-content/uploads/2023/09/376278460_702290598590965_7825634918482137228_n.jpg
END:VEVENT
BEGIN:VEVENT
DTSTART;TZID=America/New_York:20231015T094500
DTEND;TZID=America/New_York:20231015T120000
DTSTAMP:20260423T164507
CREATED:20230929T030200Z
LAST-MODIFIED:20230929T030200Z
UID:1146-1697363100-1697371200@eastminsterpca.org
SUMMARY:Sunday Worship Services October 15\, 2023
DESCRIPTION:Join us for Sunday morning worship services at 11am.  Rev Gary Roest brings the message. \nSunday School on October 1st at 9:45am in room 104. The current lesson is on prayer. Join us as we learn to pray big! \nNew communicant’s class meets in the pastor’s office.
URL:https://eastminsterpca.org/event/sunday-worship-services-october-15-2023/
LOCATION:Eastminster Presbyterian Church\, 3229 MacDonald Road\, Virginia Beach\, VA\, 23464\, United States
CATEGORIES:Sunday School,Worship Service
ATTACH;FMTTYPE=image/jpeg:https://eastminsterpca.org/wp-content/uploads/2023/09/376278460_702290598590965_7825634918482137228_n.jpg
END:VEVENT
BEGIN:VEVENT
DTSTART;TZID=America/New_York:20231008T094500
DTEND;TZID=America/New_York:20231008T120000
DTSTAMP:20260423T164507
CREATED:20230929T024354Z
LAST-MODIFIED:20230929T024354Z
UID:1134-1696758300-1696766400@eastminsterpca.org
SUMMARY:Worship Service & Communion - Sunday Oct 8\, 2023
DESCRIPTION:Join us for Sunday morning worship at 11am as Rev Ruffin Alphin brings the message. The Sacrament of Communion will be observed. \nSunday School meets in room 104 at 9:45am and continues a study on prayer. All are welcome to join!
URL:https://eastminsterpca.org/event/worship-service-communion-sunday-oct-8-2023/
LOCATION:Eastminster Presbyterian Church\, 3229 MacDonald Road\, Virginia Beach\, VA\, 23464\, United States
CATEGORIES:Communion,Sunday School,Worship Service
ATTACH;FMTTYPE=image/jpeg:https://eastminsterpca.org/wp-content/uploads/2016/04/TheLordsSupper.jpg
END:VEVENT
BEGIN:VEVENT
DTSTART;TZID=America/New_York:20231001T094500
DTEND;TZID=America/New_York:20231001T120000
DTSTAMP:20260423T164507
CREATED:20230929T021903Z
LAST-MODIFIED:20230929T021903Z
UID:1128-1696153500-1696161600@eastminsterpca.org
SUMMARY:Worship Service & Sunday School Sunday Oct 1\, 2023
DESCRIPTION:Join us for Sunday morning worship services at 11am.  Rev Ron Rice brings a message from Ephesians. \nWe are resuming Sunday School on October 1st at 9:45am in room 104. The current lesson is on prayer. Join us as we learn to pray big! \nWe are also starting a new communicant’s class. The class meets in the pastor’s office.
URL:https://eastminsterpca.org/event/worship-service-sunday-school-sunday-oct-1-2023/
LOCATION:Eastminster Presbyterian Church\, 3229 MacDonald Road\, Virginia Beach\, VA\, 23464\, United States
CATEGORIES:Sunday School,Worship Service
ATTACH;FMTTYPE=image/jpeg:https://eastminsterpca.org/wp-content/uploads/2023/09/jumpstory-download20230922-173031-scaled.jpg
END:VEVENT
END:VCALENDAR