BEGIN:VCALENDAR
VERSION:2.0
PRODID:-//Eastminster Presbyterian Church - ECPv6.15.13//NONSGML v1.0//EN
CALSCALE:GREGORIAN
METHOD:PUBLISH
X-WR-CALNAME:Eastminster Presbyterian Church
X-ORIGINAL-URL:https://eastminsterpca.org
X-WR-CALDESC:Events for Eastminster Presbyterian Church
REFRESH-INTERVAL;VALUE=DURATION:PT1H
X-Robots-Tag:noindex
X-PUBLISHED-TTL:PT1H
BEGIN:VTIMEZONE
TZID:America/New_York
BEGIN:DAYLIGHT
TZOFFSETFROM:-0500
TZOFFSETTO:-0400
TZNAME:EDT
DTSTART:20220313T070000
END:DAYLIGHT
BEGIN:STANDARD
TZOFFSETFROM:-0400
TZOFFSETTO:-0500
TZNAME:EST
DTSTART:20221106T060000
END:STANDARD
BEGIN:DAYLIGHT
TZOFFSETFROM:-0500
TZOFFSETTO:-0400
TZNAME:EDT
DTSTART:20230312T070000
END:DAYLIGHT
BEGIN:STANDARD
TZOFFSETFROM:-0400
TZOFFSETTO:-0500
TZNAME:EST
DTSTART:20231105T060000
END:STANDARD
BEGIN:DAYLIGHT
TZOFFSETFROM:-0500
TZOFFSETTO:-0400
TZNAME:EDT
DTSTART:20240310T070000
END:DAYLIGHT
BEGIN:STANDARD
TZOFFSETFROM:-0400
TZOFFSETTO:-0500
TZNAME:EST
DTSTART:20241103T060000
END:STANDARD
BEGIN:DAYLIGHT
TZOFFSETFROM:-0500
TZOFFSETTO:-0400
TZNAME:EDT
DTSTART:20250309T070000
END:DAYLIGHT
BEGIN:STANDARD
TZOFFSETFROM:-0400
TZOFFSETTO:-0500
TZNAME:EST
DTSTART:20251102T060000
END:STANDARD
BEGIN:DAYLIGHT
TZOFFSETFROM:-0500
TZOFFSETTO:-0400
TZNAME:EDT
DTSTART:20260308T070000
END:DAYLIGHT
BEGIN:STANDARD
TZOFFSETFROM:-0400
TZOFFSETTO:-0500
TZNAME:EST
DTSTART:20261101T060000
END:STANDARD
END:VTIMEZONE
BEGIN:VEVENT
DTSTART;TZID=America/New_York:20250309T110000
DTEND;TZID=America/New_York:20250309T121500
DTSTAMP:20260423T163338
CREATED:20250305T232101Z
LAST-MODIFIED:20250305T232101Z
UID:1218-1741518000-1741522500@eastminsterpca.org
SUMMARY:Communion
DESCRIPTION:Communion Sunday
URL:https://eastminsterpca.org/event/communion/
LOCATION:Eastminster Presbyterian Church\, 3229 MacDonald Road\, Virginia Beach\, VA\, 23464\, United States
CATEGORIES:Communion,Worship Service
END:VEVENT
BEGIN:VEVENT
DTSTART;TZID=America/New_York:20231008T094500
DTEND;TZID=America/New_York:20231008T120000
DTSTAMP:20260423T163338
CREATED:20230929T024354Z
LAST-MODIFIED:20230929T024354Z
UID:1134-1696758300-1696766400@eastminsterpca.org
SUMMARY:Worship Service & Communion - Sunday Oct 8\, 2023
DESCRIPTION:Join us for Sunday morning worship at 11am as Rev Ruffin Alphin brings the message. The Sacrament of Communion will be observed. \nSunday School meets in room 104 at 9:45am and continues a study on prayer. All are welcome to join!
URL:https://eastminsterpca.org/event/worship-service-communion-sunday-oct-8-2023/
LOCATION:Eastminster Presbyterian Church\, 3229 MacDonald Road\, Virginia Beach\, VA\, 23464\, United States
CATEGORIES:Communion,Sunday School,Worship Service
ATTACH;FMTTYPE=image/jpeg:https://eastminsterpca.org/wp-content/uploads/2016/04/TheLordsSupper.jpg
END:VEVENT
END:VCALENDAR