BEGIN:VCALENDAR
VERSION:2.0
PRODID:-//Eastminster Presbyterian Church - ECPv6.15.13//NONSGML v1.0//EN
CALSCALE:GREGORIAN
METHOD:PUBLISH
X-WR-CALNAME:Eastminster Presbyterian Church
X-ORIGINAL-URL:https://eastminsterpca.org
X-WR-CALDESC:Events for Eastminster Presbyterian Church
REFRESH-INTERVAL;VALUE=DURATION:PT1H
X-Robots-Tag:noindex
X-PUBLISHED-TTL:PT1H
BEGIN:VTIMEZONE
TZID:America/New_York
BEGIN:DAYLIGHT
TZOFFSETFROM:-0500
TZOFFSETTO:-0400
TZNAME:EDT
DTSTART:20220313T070000
END:DAYLIGHT
BEGIN:STANDARD
TZOFFSETFROM:-0400
TZOFFSETTO:-0500
TZNAME:EST
DTSTART:20221106T060000
END:STANDARD
BEGIN:DAYLIGHT
TZOFFSETFROM:-0500
TZOFFSETTO:-0400
TZNAME:EDT
DTSTART:20230312T070000
END:DAYLIGHT
BEGIN:STANDARD
TZOFFSETFROM:-0400
TZOFFSETTO:-0500
TZNAME:EST
DTSTART:20231105T060000
END:STANDARD
BEGIN:DAYLIGHT
TZOFFSETFROM:-0500
TZOFFSETTO:-0400
TZNAME:EDT
DTSTART:20240310T070000
END:DAYLIGHT
BEGIN:STANDARD
TZOFFSETFROM:-0400
TZOFFSETTO:-0500
TZNAME:EST
DTSTART:20241103T060000
END:STANDARD
END:VTIMEZONE
BEGIN:VEVENT
DTSTART;TZID=America/New_York:20231026T100000
DTEND;TZID=America/New_York:20231026T120000
DTSTAMP:20260423T180959
CREATED:20230929T023623Z
LAST-MODIFIED:20230929T023623Z
UID:1131-1698314400-1698321600@eastminsterpca.org
SUMMARY:Indian River Assisted Living - October Birthdays Event
DESCRIPTION:Birthday gifts for the Indian River Assisted Living members with birthdays in October will be distributed in conjunction with a birthday celebration. Please sign up to donate a gift or help with the distribution. The signup list is in the office foyer. \nThis is a tremendous blessing for all involved!
URL:https://eastminsterpca.org/event/indian-river-assisted-living-october-birthdays-event/
LOCATION:Eastminster Presbyterian Church\, 3229 MacDonald Road\, Virginia Beach\, VA\, 23464\, United States
CATEGORIES:Birthday,Service Event
ATTACH;FMTTYPE=image/jpeg:https://eastminsterpca.org/wp-content/uploads/2023/08/birthdau-gifts.jpg
END:VEVENT
END:VCALENDAR